Workbook

Sheet Directions
B2: ***READ FIRST***
B3: 1 | C3: Chose Liquid Product or Dry Product tab
B5: 1 | C5: Give project a name and start date (yellow cells at top)
B7: 2 | C7: Fill in data for all red cells for Product Formula (where needed)
B9: 3 | C9: Lbs/Gal will be calculated based on the specific gravity if that is only value available
D10: If you have a range of specific gravice from the SDS for customer formula, take thelow and high number and multiply them together (I.E 1.0 - 1.05). Take that number and devide by 2 for average specific gravity (i.e. 2.05 ÷ 2= 1.025)
B12: 4 | C12: Labor rates are based on the following:
D13: Estimated Time to Make 500 Gallons (hrs) - DEFAULT is 4 hours, 0 (zero) if only a pour
D14: Time to Pour 500 Gallons into Drums (hrs) - DEFAULT is 1 hour, adjust as needed
B16: 5 | C16: Double check costs of package sizes (container/cap/label and carton where needed) before each entry
D17: Use Chempax > CUSTOM FORMS > -Product Cost to get costs (Pkg Cost + Container Cost) of similanr packaing
C21: Distribution: needs to be updated Form completed by: Purchasing/Director of Technology Development Routing: (1) Dir Sales then to (2) CFO then back to (3) Dir Tech Dev Final Distribution: Customer Support Mgr (Paper copy for file folder); Director of Technology Development Form scanned and stored in F: drive

Sheet Nitric 70% ACS
A1: Proposed New Product Quotation Template
A2: DISCLAIMER: This form is used for Quotation Purposes Only! The Following Product Does Not Yet Exist at RBP
A3: Name of Proposed New Product: | D3: Nitric Acid 70% ACS | H3: Date | I3: 45873
A4: Product Formula | L4: Batch Information
A5: RM Name | B5: RBP # (if appicable) | C5: RM CAS # (if applicabple) | D5: Weight % | E5: RM Cost ($/lb) | F5: Cost from Chempax? (if 'no', name source) | G5: If New RM to RBP what are Order Minimums? | I5: Extended Cost ($/lb) | K5: Lead Time | L5: RM quantity for 1 drum | M5: x100 | N5: Estimated Lbs/Gal of each RM in formula | O5: Can make ### gallons based on MOQ
A6: Nitric Acid 70% ACS | D6: 1 | E6: 2.37 | F6: Columbus | H6: 1 drum | I6: =IF(D6>0,D6*E6," " ) -> 2.37 | K6: 6-7 weeks | L6: =IF(D6>0,D6*$B$30*55," " ) -> 652.135 | M6: =IF(D6>0,L6*100," ") -> 65213.5 | N6: =IF(D6>0,L6/55," ") -> 11.857 | O6: =IF(D6>0,G6/N6," " ) -> 0
I7: =IF(D7>0,D7*E7," " ) | L7: =IF(D7>0,D7*$B$30*55," " ) | M7: =IF(D7>0,L7*100," ") | N7: =IF(D7>0,L7/55," ") | O7: =IF(D7>0,G7/N7," " )
I8: =IF(D8>0,D8*E8," " ) | L8: =IF(D8>0,D8*$B$30*55," " ) | M8: =IF(D8>0,L8*100," ") | N8: =IF(D8>0,L8/55," ") | O8: =IF(D8>0,G8/N8," " )
I9: =IF(D9>0,D9*E9," " ) | L9: =IF(D9>0,D9*$B$30*55," " ) | M9: =IF(D9>0,L9*100," ") | N9: =IF(D9>0,L9/55," ") | O9: =IF(D9>0,G9/N9," " )
I10: =IF(D10>0,D10*E10," " ) | L10: =IF(D10>0,D10*$B$30*55," " ) | M10: =IF(D10>0,L10*100," ") | N10: =IF(D10>0,L10/55," ") | O10: =IF(D10>0,G10/N10," " )
I11: =IF(D11>0,D11*E11," " ) | L11: =IF(D11>0,D11*$B$30*55," " ) | M11: =IF(D11>0,L11*100," ") | N11: =IF(D11>0,L11/55," ") | O11: =IF(D11>0,G11/N11," " )
I12: =IF(D12>0,D12*E12," " ) | L12: =IF(D12>0,D12*$B$30*55," " ) | M12: =IF(D12>0,L12*100," ") | N12: =IF(D12>0,L12/55," ") | O12: =IF(D12>0,G12/N12," " )
I13: =IF(D13>0,D13*E13," " ) | L13: =IF(D13>0,D13*$B$30*55," " ) | M13: =IF(D13>0,L13*100," ") | N13: =IF(D13>0,L13/55," ") | O13: =IF(D13>0,G13/N13," " )
I14: =IF(D14>0,D14*E14," " ) | L14: =IF(D14>0,D14*$B$30*55," " ) | M14: =IF(D14>0,L14*100," ") | N14: =IF(D14>0,L14/55," ") | O14: =IF(D14>0,G14/N14," " )
I15: =IF(D15>0,D15*E15," " ) | L15: =IF(D15>0,D15*$B$30*55," " ) | M15: =IF(D15>0,L15*100," ") | N15: =IF(D15>0,L15/55," ") | O15: =IF(D15>0,G15/N15," " )
I16: =IF(D16>0,D16*E16," " ) | L16: =IF(D16>0,D16*$B$30*55," " ) | M16: =IF(D16>0,L16*100," ") | N16: =IF(D16>0,L16/55," ") | O16: =IF(D16>0,G16/N16," " )
I17: =IF(D17>0,D17*E17," " ) | L17: =IF(D17>0,D17*$B$30*55," " ) | M17: =IF(D17>0,L17*100," ") | N17: =IF(D17>0,L17/55," ") | O17: =IF(D17>0,G17/N17," " )
I18: =IF(D18>0,D18*E18," " ) | L18: =IF(D18>0,D18*$B$30*55," " ) | M18: =IF(D18>0,L18*100," ") | N18: =IF(D18>0,L18/55," ") | O18: =IF(D18>0,G18/N18," " )
... I26: =IF(D26>0,D26*E26," " ) | L26: =IF(D26>0,D26*$B$30*55," " ) | M26: =IF(D26>0,L26*100," ") | N26: =IF(D26>0,L26/55," ") | O26: =IF(D26>0,G26/N26," " )
A27: TOTAL | D27: =SUM(D6:D26) -> 1 | F27: New Product RM Cost ($/lb): | I27: =SUM(I6:I26) -> 2.37
A29: Specific Gravity:
A30: New Product Density (lb/gal): | B30: 11.857 | D30: Comments
A31: New Product RM Cost ($/gal): | B31: =B30*I27 -> 28.10109 | D31: Possible 6-7 week lead-time on material from Columbus.
A32: Estimated Time to Make 500 Gallons (hrs): | B32: 4
A33: Time to Pour 500 Gallons into Drums (hrs): | B33: 1
A34: Labor Rate ($/hr) | B34: 30
A35: Overhead Rate ($/gal) | B35: 1.25
A36: Packaged Costs | L36: Do not adjust these values
A37: Container Material | B37: Container Cost ($) | C37: Labor ($/gal) | D37: Overhead ($/gal) | E37: Container + L&O ($/hr) | F37: Pack Size | H37: Total Loaded Cost ($/gal) | I37: Unit Cost ($/ea) | J37: Suggested Sale Price ($/gal) | L37: Volume (gal) | M37: Labor Factor | N37: Pour Factor
C38: =($B$32+$B$33*N38)*$B$34/500 -> 2.94 | D38: =$B$35 -> 1.25 | E38: =IF(B38>0,C38+D38+B38/L38," ") | F38: 8oz (cup) | G38: 16 | H38: =IF(B38>0,$B$31+E38," ") | I38: =IF(B38>0,H38/G38," ") | L38: 0.0625 | M38: =C38/2.5 -> 1.176 | N38: 45
C39: =($B$32+$B$33*N39)*$B$34/500 -> 1.74 | D39: =$B$35 -> 1.25 | E39: =IF(B39>0,C39+D39+B39/L39," ") | F39: 1 Pint | G39: 8 | H39: =IF(B39>0,$B$31+E39," ") | I39: =IF(B39>0,H39/G39," ") | L39: 0.125 | M39: =C39/2.5 -> 0.696 | N39: 25
C40: =($B$32+$B$33*N40)*$B$34/500 -> 1.179759 | D40: =$B$35 -> 1.25 | E40: =IF(B40>0,C40+D40+B40/L40," ") | F40: 1 Qt | G40: 4 | H40: =IF(B40>0,$B$31+E40," ") | I40: =IF(B40>0,H40/G40," ") | L40: 0.25 | M40: =C40/2.5 -> 0.47190361 | N40: 15.662651
A41: Glass Bottles | B41: 9.99 | C41: =($B$32+$B$33*N41)*$B$34/500 -> 0.67373494 | D41: =$B$35 -> 1.25 | E41: =IF(B41>0,C41+D41+B41/L41," ") -> 11.913735 | F41: 1 Gal | G41: 1 | H41: =IF(B41>0,$B$31+E41," ") -> 40.014825 | I41: =IF(B41>0,H41," ") -> 40.014825 | L41: 1 | M41: =C41/2.5 -> 0.26949398 | N41: 7.2289157
A42: Plastic Pail | B42: 10.722 | C42: =($B$32+$B$33*N42)*$B$34/500 -> 0.45686747 | D42: =$B$35 -> 1.25 | E42: =IF(B42>0,C42+D42+B42/L42," ") -> 3.8512675 | F42: 5 Gal | G42: 5 | H42: =IF(B42>0,$B$31+E42," ") -> 31.952357 | I42: =IF(B42>0,H42*G42," ") -> 159.76179 | L42: 5 | M42: =C42/2.5 -> 0.18274699 | N42: 3.6144578
C43: =($B$32+$B$33*N43)*$B$34/500 -> 0.408 | D43: =$B$35 -> 1.25 | E43: =IF(B43>0,C43+D43+B43/L43," ") | F43: 15 Gal | G43: 15 | H43: =IF(B43>0,$B$31+E43," ") | I43: =IF(B43>0,H43*G43," ") | L43: 15 | M43: =C43/2.5 -> 0.1632 | N43: 2.8
C44: =($B$32+$B$33*N44)*$B$34/500 -> 0.38457831 | D44: =$B$35 -> 1.25 | E44: =IF(B44>0,C44+D44+B44/L44," ") | F44: 20 Gal | G44: 20 | H44: =IF(B44>0,$B$31+E44," ") | I44: =IF(B44>0,H44*G44," ") | L44: 20 | M44: =C44/2.5 -> 0.15383133 | N44: 2.4096386
C45: =($B$32+$B$33*N45)*$B$34/500 -> 0.34843373 | D45: =$B$35 -> 1.25 | E45: =IF(B45>0,C45+D45+B45/L45," ") | F45: 30 Gal | G45: 30 | H45: =IF(B45>0,$B$31+E45," ") | I45: =IF(B45>0,H45*G45," ") | L45: 30 | M45: =C45/2.5 -> 0.13937349 | N45: 1.8072289
A46: Plastic Drum (Recon) | B46: 31.384 | C46: =($B$32+$B$33*N46)*$B$34/500 -> 0.3 | D46: =$B$35 -> 1.25 | E46: =IF(B46>0,C46+D46+B46/L46," ") -> 2.1206182 | F46: 55 Gal | G46: 55 | H46: =IF(B46>0,$B$31+E46," ") -> 30.221708 | I46: =IF(B46>0,H46*G46," ") -> 1662.1939 | L46: 55 | M46: =C46/2.5 -> 0.12 | N46: 1
A47: "Dual" Poly Drum | C47: =($B$32+$B$33*N46)*$B$34/500 -> 0.3 | D47: =$B$35 -> 1.25 | E47: =IF(B47>0,C47+D47+B47/L46," ") | F47: 590 Lbs | G47: 590 | H47: 2.37 | I47: =H47*G47 -> 1398.3 | L47: 275 | M47: =C48/2.5 -> 0.11045783 | N47: 0.60240964
C48: =($B$32+$B$33*N47)*$B$34/500 -> 0.27614458 | D48: =$B$35 -> 1.25 | E48: =IF(B48>0,C48+D48+B48/L47," ") | F48: 275 Gal | G48: 275 | H48: =IF(B48>0,$B$31+E48," ") | I48: =IF(B48>0,H48*G48," ") | L48: 330 | M48: =C50/2.5 -> 0.11045783 | N48: 0.60240964
...

Sheet Nitric 20% ACS
A1: Proposed New Product Quotation Template
A2: DISCLAIMER: This form is used for Quotation Purposes Only! The Following Product Does Not Yet Exist at RBP
A3: Name of Proposed New Product: | D3: Nitric Acid 20% ACS (w/w) | H3: Date | I3: 45873
A4: Product Formula | L4: Batch Information
A5: RM Name | B5: RBP # (if appicable) | C5: RM CAS # (if applicabple) | D5: Weight % | E5: RM Cost ($/lb) | F5: Cost from Chempax? (if 'no', name source) | G5: If New RM to RBP what are Order Minimums? | I5: Extended Cost ($/lb) | K5: Lead Time | L5: RM quantity for 1 drum | M5: x100 | N5: Estimated Lbs/Gal of each RM in formula | O5: Can make ### gallons based on MOQ
A6: Nitric Acid 20% ACS (w/w) | D6: 1 | E6: 1.91 | F6: Columbus | H6: 1 Drum | I6: =IF(D6>0,D6*E6," " ) -> 1.91 | K6: 6-7 weeks | L6: =IF(D6>0,D6*$B$30*55," " ) -> 509.795 | M6: =IF(D6>0,L6*100," ") -> 50979.5 | N6: =IF(D6>0,L6/55," ") -> 9.269 | O6: =IF(D6>0,G6/N6," " ) -> 0
I7: =IF(D7>0,D7*E7," " ) | L7: =IF(D7>0,D7*$B$30*55," " ) | M7: =IF(D7>0,L7*100," ") | N7: =IF(D7>0,L7/55," ") | O7: =IF(D7>0,G7/N7," " )
I8: =IF(D8>0,D8*E8," " ) | L8: =IF(D8>0,D8*$B$30*55," " ) | M8: =IF(D8>0,L8*100," ") | N8: =IF(D8>0,L8/55," ") | O8: =IF(D8>0,G8/N8," " )
I9: =IF(D9>0,D9*E9," " ) | L9: =IF(D9>0,D9*$B$30*55," " ) | M9: =IF(D9>0,L9*100," ") | N9: =IF(D9>0,L9/55," ") | O9: =IF(D9>0,G9/N9," " )
I10: =IF(D10>0,D10*E10," " ) | L10: =IF(D10>0,D10*$B$30*55," " ) | M10: =IF(D10>0,L10*100," ") | N10: =IF(D10>0,L10/55," ") | O10: =IF(D10>0,G10/N10," " )
I11: =IF(D11>0,D11*E11," " ) | L11: =IF(D11>0,D11*$B$30*55," " ) | M11: =IF(D11>0,L11*100," ") | N11: =IF(D11>0,L11/55," ") | O11: =IF(D11>0,G11/N11," " )
I12: =IF(D12>0,D12*E12," " ) | L12: =IF(D12>0,D12*$B$30*55," " ) | M12: =IF(D12>0,L12*100," ") | N12: =IF(D12>0,L12/55," ") | O12: =IF(D12>0,G12/N12," " )
I13: =IF(D13>0,D13*E13," " ) | L13: =IF(D13>0,D13*$B$30*55," " ) | M13: =IF(D13>0,L13*100," ") | N13: =IF(D13>0,L13/55," ") | O13: =IF(D13>0,G13/N13," " )
I14: =IF(D14>0,D14*E14," " ) | L14: =IF(D14>0,D14*$B$30*55," " ) | M14: =IF(D14>0,L14*100," ") | N14: =IF(D14>0,L14/55," ") | O14: =IF(D14>0,G14/N14," " )
I15: =IF(D15>0,D15*E15," " ) | L15: =IF(D15>0,D15*$B$30*55," " ) | M15: =IF(D15>0,L15*100," ") | N15: =IF(D15>0,L15/55," ") | O15: =IF(D15>0,G15/N15," " )
I16: =IF(D16>0,D16*E16," " ) | L16: =IF(D16>0,D16*$B$30*55," " ) | M16: =IF(D16>0,L16*100," ") | N16: =IF(D16>0,L16/55," ") | O16: =IF(D16>0,G16/N16," " )
I17: =IF(D17>0,D17*E17," " ) | L17: =IF(D17>0,D17*$B$30*55," " ) | M17: =IF(D17>0,L17*100," ") | N17: =IF(D17>0,L17/55," ") | O17: =IF(D17>0,G17/N17," " )
I18: =IF(D18>0,D18*E18," " ) | L18: =IF(D18>0,D18*$B$30*55," " ) | M18: =IF(D18>0,L18*100," ") | N18: =IF(D18>0,L18/55," ") | O18: =IF(D18>0,G18/N18," " )
... I26: =IF(D26>0,D26*E26," " ) | L26: =IF(D26>0,D26*$B$30*55," " ) | M26: =IF(D26>0,L26*100," ") | N26: =IF(D26>0,L26/55," ") | O26: =IF(D26>0,G26/N26," " )
A27: TOTAL | D27: =SUM(D6:D26) -> 1 | F27: New Product RM Cost ($/lb): | I27: =SUM(I6:I26) -> 1.91
A29: Specific Gravity:
A30: New Product Density (lb/gal): | B30: 9.269 | D30: Comments
A31: New Product RM Cost ($/gal): | B31: =B30*I27 -> 17.70379 | D31: Won't say ACS or Reagent. Asc is used ony for the 70% we are also quoting and would be used with purified water to make the 20%. Possible 6-7 week lead-time on material from Columbus
A32: Estimated Time to Make 500 Gallons (hrs): | B32: 4
A33: Time to Pour 500 Gallons into Drums (hrs): | B33: 1
A34: Labor Rate ($/hr) | B34: 30
A35: Overhead Rate ($/gal) | B35: 1.25
A36: Packaged Costs | L36: Do not adjust these values
A37: Container Material | B37: Container Cost ($) | C37: Labor ($/gal) | D37: Overhead ($/gal) | E37: Container + L&O ($/hr) | F37: Pack Size | H37: Total Loaded Cost ($/gal) | I37: Unit Cost ($/ea) | J37: Suggested Sale Price ($/gal) | L37: Volume (gal) | M37: Labor Factor | N37: Pour Factor
C38: =($B$32+$B$33*N38)*$B$34/500 -> 2.94 | D38: =$B$35 -> 1.25 | E38: =IF(B38>0,C38+D38+B38/L38," ") | F38: 8oz (cup) | G38: 16 | H38: =IF(B38>0,$B$31+E38," ") | I38: =IF(B38>0,H38/G38," ") | L38: 0.0625 | M38: =C38/2.5 -> 1.176 | N38: 45
C39: =($B$32+$B$33*N39)*$B$34/500 -> 1.74 | D39: =$B$35 -> 1.25 | E39: =IF(B39>0,C39+D39+B39/L39," ") | F39: 1 Pint | G39: 8 | H39: =IF(B39>0,$B$31+E39," ") | I39: =IF(B39>0,H39/G39," ") | L39: 0.125 | M39: =C39/2.5 -> 0.696 | N39: 25
C40: =($B$32+$B$33*N40)*$B$34/500 -> 1.179759 | D40: =$B$35 -> 1.25 | E40: =IF(B40>0,C40+D40+B40/L40," ") | F40: 1 Qt | G40: 4 | H40: =IF(B40>0,$B$31+E40," ") | I40: =IF(B40>0,H40/G40," ") | L40: 0.25 | M40: =C40/2.5 -> 0.47190361 | N40: 15.662651
A41: PPQ Medical Bottles | B41: 4.7457 | C41: =($B$32+$B$33*N41)*$B$34/500 -> 0.67373494 | D41: =$B$35 -> 1.25 | E41: =IF(B41>0,C41+D41+B41/L41," ") -> 6.6694349 | F41: 1 Gal | G41: 1 | H41: =IF(B41>0,$B$31+E41," ") -> 24.373225 | I41: =IF(B41>0,H41," ") -> 24.373225 | L41: 1 | M41: =C41/2.5 -> 0.26949398 | N41: 7.2289157
A42: Plastic Pail | B42: ='Nitric 70% ACS'!B42 -> 10.722 | C42: =($B$32+$B$33*N42)*$B$34/500 -> 0.45686747 | D42: =$B$35 -> 1.25 | E42: =IF(B42>0,C42+D42+B42/L42," ") -> 3.8512675 | F42: 5 Gal | G42: 5 | H42: =IF(B42>0,$B$31+E42," ") -> 21.555057 | I42: =IF(B42>0,H42*G42," ") -> 107.77529 | L42: 5 | M42: =C42/2.5 -> 0.18274699 | N42: 3.6144578
B43: ='Nitric 70% ACS'!B43 -> 0 | C43: =($B$32+$B$33*N43)*$B$34/500 -> 0.408 | D43: =$B$35 -> 1.25 | E43: =IF(B43>0,C43+D43+B43/L43," ") | F43: 15 Gal | G43: 15 | H43: =IF(B43>0,$B$31+E43," ") | I43: =IF(B43>0,H43*G43," ") | L43: 15 | M43: =C43/2.5 -> 0.1632 | N43: 2.8
B44: ='Nitric 70% ACS'!B44 -> 0 | C44: =($B$32+$B$33*N44)*$B$34/500 -> 0.38457831 | D44: =$B$35 -> 1.25 | E44: =IF(B44>0,C44+D44+B44/L44," ") | F44: 20 Gal | G44: 20 | H44: =IF(B44>0,$B$31+E44," ") | I44: =IF(B44>0,H44*G44," ") | L44: 20 | M44: =C44/2.5 -> 0.15383133 | N44: 2.4096386
B45: ='Nitric 70% ACS'!B45 -> 0 | C45: =($B$32+$B$33*N45)*$B$34/500 -> 0.34843373 | D45: =$B$35 -> 1.25 | E45: =IF(B45>0,C45+D45+B45/L45," ") | F45: 30 Gal | G45: 30 | H45: =IF(B45>0,$B$31+E45," ") | I45: =IF(B45>0,H45*G45," ") | L45: 30 | M45: =C45/2.5 -> 0.13937349 | N45: 1.8072289
A46: Plastic Drum (Recon) | B46: ='Nitric 70% ACS'!B46 -> 31.384 | C46: =($B$32+$B$33*N46)*$B$34/500 -> 0.3 | D46: =$B$35 -> 1.25 | E46: =IF(B46>0,C46+D46+B46/L46," ") -> 2.1206182 | F46: 55 Gal | G46: 55 | H46: =IF(B46>0,$B$31+E46," ") -> 19.824408 | I46: =IF(B46>0,H46*G46," ") -> 1090.3424 | L46: 55 | M46: =C46/2.5 -> 0.12 | N46: 1
A47: Plastic Drum (New) | B47: 0 | C47: =($B$32+$B$33*N46)*$B$34/500 -> 0.3 | D47: =$B$35 -> 1.25 | E47: =IF(B47>0,C47+D47+B47/L46," ") | F47: 480 Lbs | G47: 480 | H47: 1.91 | I47: =H47*G47 -> 916.8 | L47: 275 | M47: =C48/2.5 -> 0.11045783 | N47: 0.60240964
C48: =($B$32+$B$33*N47)*$B$34/500 -> 0.27614458 | D48: =$B$35 -> 1.25 | E48: =IF(B48>0,C48+D48+B48/L47," ") | F48: 275 Gal | G48: 275 | H48: =IF(B48>0,$B$31+E48," ") | I48: =IF(B48>0,H48*G48," ") | L48: 330 | M48: =C50/2.5 -> 0.11045783 | N48: 0.60240964
...

Sheet HCl ACS
A1: Proposed New Product Quotation Template
A2: DISCLAIMER: This form is used for Quotation Purposes Only! The Following Product Does Not Yet Exist at RBP
A3: Name of Proposed New Product: | D3: HCl ACS 32-38% | H3: Date | I3: 45873
A4: Product Formula | L4: Batch Information
A5: RM Name | B5: RBP # (if appicable) | C5: RM CAS # (if applicabple) | D5: Weight % | E5: RM Cost ($/lb) | F5: Cost from Chempax? (if 'no', name source) | G5: If New RM to RBP what are Order Minimums? | I5: Extended Cost ($/lb) | K5: Lead Time | L5: RM quantity for 1 drum | M5: x100 | N5: Estimated Lbs/Gal of each RM in formula | O5: Can make ### gallons based on MOQ
A6: HCl ACS 32-38% | D6: 1 | E6: 3.74 | F6: Brenntag | H6: 4 drum | I6: =IF(D6>0,D6*E6," " ) -> 3.74 | K6: 4-5 weeks | L6: =IF(D6>0,D6*$B$30*55," " ) -> 541.915 | M6: =IF(D6>0,L6*100," ") -> 54191.5 | N6: =IF(D6>0,L6/55," ") -> 9.853 | O6: =IF(D6>0,G6/N6," " ) -> 0
I7: =IF(D7>0,D7*E7," " ) | L7: =IF(D7>0,D7*$B$30*55," " ) | M7: =IF(D7>0,L7*100," ") | N7: =IF(D7>0,L7/55," ") | O7: =IF(D7>0,G7/N7," " )
I8: =IF(D8>0,D8*E8," " ) | L8: =IF(D8>0,D8*$B$30*55," " ) | M8: =IF(D8>0,L8*100," ") | N8: =IF(D8>0,L8/55," ") | O8: =IF(D8>0,G8/N8," " )
I9: =IF(D9>0,D9*E9," " ) | L9: =IF(D9>0,D9*$B$30*55," " ) | M9: =IF(D9>0,L9*100," ") | N9: =IF(D9>0,L9/55," ") | O9: =IF(D9>0,G9/N9," " )
I10: =IF(D10>0,D10*E10," " ) | L10: =IF(D10>0,D10*$B$30*55," " ) | M10: =IF(D10>0,L10*100," ") | N10: =IF(D10>0,L10/55," ") | O10: =IF(D10>0,G10/N10," " )
I11: =IF(D11>0,D11*E11," " ) | L11: =IF(D11>0,D11*$B$30*55," " ) | M11: =IF(D11>0,L11*100," ") | N11: =IF(D11>0,L11/55," ") | O11: =IF(D11>0,G11/N11," " )
I12: =IF(D12>0,D12*E12," " ) | L12: =IF(D12>0,D12*$B$30*55," " ) | M12: =IF(D12>0,L12*100," ") | N12: =IF(D12>0,L12/55," ") | O12: =IF(D12>0,G12/N12," " )
I13: =IF(D13>0,D13*E13," " ) | L13: =IF(D13>0,D13*$B$30*55," " ) | M13: =IF(D13>0,L13*100," ") | N13: =IF(D13>0,L13/55," ") | O13: =IF(D13>0,G13/N13," " )
I14: =IF(D14>0,D14*E14," " ) | L14: =IF(D14>0,D14*$B$30*55," " ) | M14: =IF(D14>0,L14*100," ") | N14: =IF(D14>0,L14/55," ") | O14: =IF(D14>0,G14/N14," " )
I15: =IF(D15>0,D15*E15," " ) | L15: =IF(D15>0,D15*$B$30*55," " ) | M15: =IF(D15>0,L15*100," ") | N15: =IF(D15>0,L15/55," ") | O15: =IF(D15>0,G15/N15," " )
I16: =IF(D16>0,D16*E16," " ) | L16: =IF(D16>0,D16*$B$30*55," " ) | M16: =IF(D16>0,L16*100," ") | N16: =IF(D16>0,L16/55," ") | O16: =IF(D16>0,G16/N16," " )
I17: =IF(D17>0,D17*E17," " ) | L17: =IF(D17>0,D17*$B$30*55," " ) | M17: =IF(D17>0,L17*100," ") | N17: =IF(D17>0,L17/55," ") | O17: =IF(D17>0,G17/N17," " )
I18: =IF(D18>0,D18*E18," " ) | L18: =IF(D18>0,D18*$B$30*55," " ) | M18: =IF(D18>0,L18*100," ") | N18: =IF(D18>0,L18/55," ") | O18: =IF(D18>0,G18/N18," " )
... I26: =IF(D26>0,D26*E26," " ) | L26: =IF(D26>0,D26*$B$30*55," " ) | M26: =IF(D26>0,L26*100," ") | N26: =IF(D26>0,L26/55," ") | O26: =IF(D26>0,G26/N26," " )
A27: TOTAL | D27: =SUM(D6:D26) -> 1 | F27: New Product RM Cost ($/lb): | I27: =SUM(I6:I26) -> 3.74
A29: Specific Gravity:
A30: New Product Density (lb/gal): | B30: 9.853 | D30: Comments
A31: New Product RM Cost ($/gal): | B31: =B30*I27 -> 36.85022 | D31: 4-5 week lead-time, 4 drum MOQ
A32: Estimated Time to Make 500 Gallons (hrs): | B32: 4
A33: Time to Pour 500 Gallons into Drums (hrs): | B33: 1
A34: Labor Rate ($/hr) | B34: 30
A35: Overhead Rate ($/gal) | B35: 1.25
A36: Packaged Costs | L36: Do not adjust these values
A37: Container Material | B37: Container Cost ($) | C37: Labor ($/gal) | D37: Overhead ($/gal) | E37: Container + L&O ($/hr) | F37: Pack Size | H37: Total Loaded Cost ($/gal) | I37: Unit Cost ($/ea) | J37: Suggested Sale Price ($/gal) | L37: Volume (gal) | M37: Labor Factor | N37: Pour Factor
C38: =($B$32+$B$33*N38)*$B$34/500 -> 2.94 | D38: =$B$35 -> 1.25 | E38: =IF(B38>0,C38+D38+B38/L38," ") | F38: 8oz (cup) | G38: 16 | H38: =IF(B38>0,$B$31+E38," ") | I38: =IF(B38>0,H38/G38," ") | L38: 0.0625 | M38: =C38/2.5 -> 1.176 | N38: 45
C39: =($B$32+$B$33*N39)*$B$34/500 -> 1.74 | D39: =$B$35 -> 1.25 | E39: =IF(B39>0,C39+D39+B39/L39," ") | F39: 1 Pint | G39: 8 | H39: =IF(B39>0,$B$31+E39," ") | I39: =IF(B39>0,H39/G39," ") | L39: 0.125 | M39: =C39/2.5 -> 0.696 | N39: 25
C40: =($B$32+$B$33*N40)*$B$34/500 -> 1.179759 | D40: =$B$35 -> 1.25 | E40: =IF(B40>0,C40+D40+B40/L40," ") | F40: 1 Qt | G40: 4 | H40: =IF(B40>0,$B$31+E40," ") | I40: =IF(B40>0,H40/G40," ") | L40: 0.25 | M40: =C40/2.5 -> 0.47190361 | N40: 15.662651
A41: PPQ Medical Bottles | B41: 4.7457 | C41: =($B$32+$B$33*N41)*$B$34/500 -> 0.67373494 | D41: =$B$35 -> 1.25 | E41: =IF(B41>0,C41+D41+B41/L41," ") -> 6.6694349 | F41: 1 Gal | G41: 1 | H41: =IF(B41>0,$B$31+E41," ") -> 43.519655 | I41: =IF(B41>0,H41," ") -> 43.519655 | L41: 1 | M41: =C41/2.5 -> 0.26949398 | N41: 7.2289157
A42: Plastic Pail | B42: ='Nitric 70% ACS'!B42 -> 10.722 | C42: =($B$32+$B$33*N42)*$B$34/500 -> 0.45686747 | D42: =$B$35 -> 1.25 | E42: =IF(B42>0,C42+D42+B42/L42," ") -> 3.8512675 | F42: 5 Gal | G42: 5 | H42: =IF(B42>0,$B$31+E42," ") -> 40.701487 | I42: =IF(B42>0,H42*G42," ") -> 203.50744 | L42: 5 | M42: =C42/2.5 -> 0.18274699 | N42: 3.6144578
B43: ='Nitric 70% ACS'!B43 -> 0 | C43: =($B$32+$B$33*N43)*$B$34/500 -> 0.408 | D43: =$B$35 -> 1.25 | E43: =IF(B43>0,C43+D43+B43/L43," ") | F43: 15 Gal | G43: 15 | H43: =IF(B43>0,$B$31+E43," ") | I43: =IF(B43>0,H43*G43," ") | L43: 15 | M43: =C43/2.5 -> 0.1632 | N43: 2.8
B44: ='Nitric 70% ACS'!B44 -> 0 | C44: =($B$32+$B$33*N44)*$B$34/500 -> 0.38457831 | D44: =$B$35 -> 1.25 | E44: =IF(B44>0,C44+D44+B44/L44," ") | F44: 20 Gal | G44: 20 | H44: =IF(B44>0,$B$31+E44," ") | I44: =IF(B44>0,H44*G44," ") | L44: 20 | M44: =C44/2.5 -> 0.15383133 | N44: 2.4096386
B45: ='Nitric 70% ACS'!B45 -> 0 | C45: =($B$32+$B$33*N45)*$B$34/500 -> 0.34843373 | D45: =$B$35 -> 1.25 | E45: =IF(B45>0,C45+D45+B45/L45," ") | F45: 30 Gal | G45: 30 | H45: =IF(B45>0,$B$31+E45," ") | I45: =IF(B45>0,H45*G45," ") | L45: 30 | M45: =C45/2.5 -> 0.13937349 | N45: 1.8072289
A46: Plastic Drum (Recon) | B46: ='Nitric 70% ACS'!B46 -> 31.384 | C46: =($B$32+$B$33*N46)*$B$34/500 -> 0.3 | D46: =$B$35 -> 1.25 | E46: =IF(B46>0,C46+D46+B46/L46," ") -> 2.1206182 | F46: 55 Gal | G46: 55 | H46: =IF(B46>0,$B$31+E46," ") -> 38.970838 | I46: =IF(B46>0,H46*G46," ") -> 2143.3961 | L46: 55 | M46: =C46/2.5 -> 0.12 | N46: 1
A47: Plastic Drum (New) | C47: =($B$32+$B$33*N46)*$B$34/500 -> 0.3 | D47: =$B$35 -> 1.25 | E47: =IF(B47>0,C47+D47+B47/L46," ") | F47: 500 Lbs | G47: 500 | H47: 3.74 | I47: =H47*G47 -> 1870 | L47: 275 | M47: =C48/2.5 -> 0.11045783 | N47: 0.60240964
C48: =($B$32+$B$33*N47)*$B$34/500 -> 0.27614458 | D48: =$B$35 -> 1.25 | E48: =IF(B48>0,C48+D48+B48/L47," ") | F48: 275 Gal | G48: 275 | H48: =IF(B48>0,$B$31+E48," ") | I48: =IF(B48>0,H48*G48," ") | L48: 330 | M48: =C50/2.5 -> 0.11045783 | N48: 0.60240964
...

Sheet IPA 99% ACS
A1: Proposed New Product Quotation Template
A2: DISCLAIMER: This form is used for Quotation Purposes Only! The Following Product Does Not Yet Exist at RBP
A3: Name of Proposed New Product: | D3: IPA 99% ACS | H3: Date | I3: 45873
A4: Product Formula | L4: Batch Information
A5: RM Name | B5: RBP # (if appicable) | C5: RM CAS # (if applicabple) | D5: Weight % | E5: RM Cost ($/lb) | F5: Cost from Chempax? (if 'no', name source) | G5: If New RM to RBP what are Order Minimums? | I5: Extended Cost ($/lb) | K5: Lead Time | L5: RM quantity for 1 drum | M5: x100 | N5: Estimated Lbs/Gal of each RM in formula | O5: Can make ### gallons based on MOQ
A6: IPA 99% ACS | D6: 1 | E6: 1.45 | F6: Brenntag | H6: 1 drum | I6: =IF(D6>0,D6*E6," " ) -> 1.45 | K6: 1-2 weeks | L6: =IF(D6>0,D6*$B$30*55," " ) -> 360.25 | M6: =IF(D6>0,L6*100," ") -> 36025 | N6: =IF(D6>0,L6/55," ") -> 6.55 | O6: =IF(D6>0,G6/N6," " ) -> 0
I7: =IF(D7>0,D7*E7," " ) | L7: =IF(D7>0,D7*$B$30*55," " ) | M7: =IF(D7>0,L7*100," ") | N7: =IF(D7>0,L7/55," ") | O7: =IF(D7>0,G7/N7," " )
I8: =IF(D8>0,D8*E8," " ) | L8: =IF(D8>0,D8*$B$30*55," " ) | M8: =IF(D8>0,L8*100," ") | N8: =IF(D8>0,L8/55," ") | O8: =IF(D8>0,G8/N8," " )
I9: =IF(D9>0,D9*E9," " ) | L9: =IF(D9>0,D9*$B$30*55," " ) | M9: =IF(D9>0,L9*100," ") | N9: =IF(D9>0,L9/55," ") | O9: =IF(D9>0,G9/N9," " )
I10: =IF(D10>0,D10*E10," " ) | L10: =IF(D10>0,D10*$B$30*55," " ) | M10: =IF(D10>0,L10*100," ") | N10: =IF(D10>0,L10/55," ") | O10: =IF(D10>0,G10/N10," " )
I11: =IF(D11>0,D11*E11," " ) | L11: =IF(D11>0,D11*$B$30*55," " ) | M11: =IF(D11>0,L11*100," ") | N11: =IF(D11>0,L11/55," ") | O11: =IF(D11>0,G11/N11," " )
I12: =IF(D12>0,D12*E12," " ) | L12: =IF(D12>0,D12*$B$30*55," " ) | M12: =IF(D12>0,L12*100," ") | N12: =IF(D12>0,L12/55," ") | O12: =IF(D12>0,G12/N12," " )
I13: =IF(D13>0,D13*E13," " ) | L13: =IF(D13>0,D13*$B$30*55," " ) | M13: =IF(D13>0,L13*100," ") | N13: =IF(D13>0,L13/55," ") | O13: =IF(D13>0,G13/N13," " )
I14: =IF(D14>0,D14*E14," " ) | L14: =IF(D14>0,D14*$B$30*55," " ) | M14: =IF(D14>0,L14*100," ") | N14: =IF(D14>0,L14/55," ") | O14: =IF(D14>0,G14/N14," " )
I15: =IF(D15>0,D15*E15," " ) | L15: =IF(D15>0,D15*$B$30*55," " ) | M15: =IF(D15>0,L15*100," ") | N15: =IF(D15>0,L15/55," ") | O15: =IF(D15>0,G15/N15," " )
I16: =IF(D16>0,D16*E16," " ) | L16: =IF(D16>0,D16*$B$30*55," " ) | M16: =IF(D16>0,L16*100," ") | N16: =IF(D16>0,L16/55," ") | O16: =IF(D16>0,G16/N16," " )
I17: =IF(D17>0,D17*E17," " ) | L17: =IF(D17>0,D17*$B$30*55," " ) | M17: =IF(D17>0,L17*100," ") | N17: =IF(D17>0,L17/55," ") | O17: =IF(D17>0,G17/N17," " )
I18: =IF(D18>0,D18*E18," " ) | L18: =IF(D18>0,D18*$B$30*55," " ) | M18: =IF(D18>0,L18*100," ") | N18: =IF(D18>0,L18/55," ") | O18: =IF(D18>0,G18/N18," " )
... I26: =IF(D26>0,D26*E26," " ) | L26: =IF(D26>0,D26*$B$30*55," " ) | M26: =IF(D26>0,L26*100," ") | N26: =IF(D26>0,L26/55," ") | O26: =IF(D26>0,G26/N26," " )
A27: TOTAL | D27: =SUM(D6:D26) -> 1 | F27: New Product RM Cost ($/lb): | I27: =SUM(I6:I26) -> 1.45
A29: Specific Gravity:
A30: New Product Density (lb/gal): | B30: 6.55 | D30: Comments
A31: New Product RM Cost ($/gal): | B31: =B30*I27 -> 9.4975 | D31: 1-2 week lead-time
A32: Estimated Time to Make 500 Gallons (hrs): | B32: 4
A33: Time to Pour 500 Gallons into Drums (hrs): | B33: 1
A34: Labor Rate ($/hr) | B34: 30
A35: Overhead Rate ($/gal) | B35: 1.25
A36: Packaged Costs | L36: Do not adjust these values
A37: Container Material | B37: Container Cost ($) | C37: Labor ($/gal) | D37: Overhead ($/gal) | E37: Container + L&O ($/hr) | F37: Pack Size | H37: Total Loaded Cost ($/gal) | I37: Unit Cost ($/ea) | J37: Suggested Sale Price ($/gal) | L37: Volume (gal) | M37: Labor Factor | N37: Pour Factor
C38: =($B$32+$B$33*N38)*$B$34/500 -> 2.94 | D38: =$B$35 -> 1.25 | E38: =IF(B38>0,C38+D38+B38/L38," ") | F38: 8oz (cup) | G38: 16 | H38: =IF(B38>0,$B$31+E38," ") | I38: =IF(B38>0,H38/G38," ") | L38: 0.0625 | M38: =C38/2.5 -> 1.176 | N38: 45
C39: =($B$32+$B$33*N39)*$B$34/500 -> 1.74 | D39: =$B$35 -> 1.25 | E39: =IF(B39>0,C39+D39+B39/L39," ") | F39: 1 Pint | G39: 8 | H39: =IF(B39>0,$B$31+E39," ") | I39: =IF(B39>0,H39/G39," ") | L39: 0.125 | M39: =C39/2.5 -> 0.696 | N39: 25
C40: =($B$32+$B$33*N40)*$B$34/500 -> 1.179759 | D40: =$B$35 -> 1.25 | E40: =IF(B40>0,C40+D40+B40/L40," ") | F40: 1 Qt | G40: 4 | H40: =IF(B40>0,$B$31+E40," ") | I40: =IF(B40>0,H40/G40," ") | L40: 0.25 | M40: =C40/2.5 -> 0.47190361 | N40: 15.662651
A41: PPQ Medical Bottles | B41: 4.7457 | C41: =($B$32+$B$33*N41)*$B$34/500 -> 0.67373494 | D41: =$B$35 -> 1.25 | E41: =IF(B41>0,C41+D41+B41/L41," ") -> 6.6694349 | F41: 1 Gal | G41: 1 | H41: =IF(B41>0,$B$31+E41," ") -> 16.166935 | I41: =IF(B41>0,H41," ") -> 16.166935 | L41: 1 | M41: =C41/2.5 -> 0.26949398 | N41: 7.2289157
A42: Steel Pail | B42: 11.6 | C42: =($B$32+$B$33*N42)*$B$34/500 -> 0.45686747 | D42: =$B$35 -> 1.25 | E42: =IF(B42>0,C42+D42+B42/L42," ") -> 4.0268675 | F42: 5 Gal | G42: 5 | H42: =IF(B42>0,$B$31+E42," ") -> 13.524367 | I42: =IF(B42>0,H42*G42," ") -> 67.621837 | L42: 5 | M42: =C42/2.5 -> 0.18274699 | N42: 3.6144578
B43: ='Nitric 70% ACS'!B43 -> 0 | C43: =($B$32+$B$33*N43)*$B$34/500 -> 0.408 | D43: =$B$35 -> 1.25 | E43: =IF(B43>0,C43+D43+B43/L43," ") | F43: 15 Gal | G43: 15 | H43: =IF(B43>0,$B$31+E43," ") | I43: =IF(B43>0,H43*G43," ") | L43: 15 | M43: =C43/2.5 -> 0.1632 | N43: 2.8
B44: ='Nitric 70% ACS'!B44 -> 0 | C44: =($B$32+$B$33*N44)*$B$34/500 -> 0.38457831 | D44: =$B$35 -> 1.25 | E44: =IF(B44>0,C44+D44+B44/L44," ") | F44: 20 Gal | G44: 20 | H44: =IF(B44>0,$B$31+E44," ") | I44: =IF(B44>0,H44*G44," ") | L44: 20 | M44: =C44/2.5 -> 0.15383133 | N44: 2.4096386
B45: ='Nitric 70% ACS'!B45 -> 0 | C45: =($B$32+$B$33*N45)*$B$34/500 -> 0.34843373 | D45: =$B$35 -> 1.25 | E45: =IF(B45>0,C45+D45+B45/L45," ") | F45: 30 Gal | G45: 30 | H45: =IF(B45>0,$B$31+E45," ") | I45: =IF(B45>0,H45*G45," ") | L45: 30 | M45: =C45/2.5 -> 0.13937349 | N45: 1.8072289
A46: Plastic Drum (Recon) | B46: ='Nitric 70% ACS'!B46 -> 31.384 | C46: =($B$32+$B$33*N46)*$B$34/500 -> 0.3 | D46: =$B$35 -> 1.25 | E46: =IF(B46>0,C46+D46+B46/L46," ") -> 2.1206182 | F46: 55 Gal | G46: 55 | H46: =IF(B46>0,$B$31+E46," ") -> 11.618118 | I46: =IF(B46>0,H46*G46," ") -> 638.9965 | L46: 55 | M46: =C46/2.5 -> 0.12 | N46: 1
A47: Steel Drum (New) | B47: 100 | C47: =($B$32+$B$33*N46)*$B$34/500 -> 0.3 | D47: =$B$35 -> 1.25 | E47: =IF(B47>0,C47+D47+B47/L46," ") -> 3.3681818 | F47: 355 Lbs | G47: 355 | H47: =IF(B47>0,$B$31+E47," ") -> 12.865682 | I47: =H47*G47 -> 4567.317 | L47: 275 | M47: =C48/2.5 -> 0.11045783 | N47: 0.60240964
C48: =($B$32+$B$33*N47)*$B$34/500 -> 0.27614458 | D48: =$B$35 -> 1.25 | E48: =IF(B48>0,C48+D48+B48/L47," ") | F48: 275 Gal | G48: 275 | H48: =IF(B48>0,$B$31+E48," ") | I48: =IF(B48>0,H48*G48," ") | L48: 330 | M48: =C50/2.5 -> 0.11045783 | N48: 0.60240964
...

Sheet IPA 99% USP
A1: Proposed New Product Quotation Template
A2: DISCLAIMER: This form is used for Quotation Purposes Only! The Following Product Does Not Yet Exist at RBP
A3: Name of Proposed New Product: | D3: IPA 99% USP | H3: Date | I3: 45873
A4: Product Formula | L4: Batch Information
A5: RM Name | B5: RBP # (if appicable) | C5: RM CAS # (if applicabple) | D5: Weight % | E5: RM Cost ($/lb) | F5: Cost from Chempax? (if 'no', name source) | G5: If New RM to RBP what are Order Minimums? | I5: Extended Cost ($/lb) | K5: Lead Time | L5: RM quantity for 1 drum | M5: x100 | N5: Estimated Lbs/Gal of each RM in formula | O5: Can make ### gallons based on MOQ
A6: IPA 99% USP | D6: 1 | E6: 1.1506 | F6: Brenntag | G6: 355 | H6: 1 drum | I6: =IF(D6>0,D6*E6," " ) -> 1.1506 | K6: 1-2 weeks | L6: =IF(D6>0,D6*$B$30*55," " ) -> 360.25 | M6: =IF(D6>0,L6*100," ") -> 36025 | N6: =IF(D6>0,L6/55," ") -> 6.55 | O6: =IF(D6>0,G6/N6," " ) -> 54.198473
I7: =IF(D7>0,D7*E7," " ) | L7: =IF(D7>0,D7*$B$30*55," " ) | M7: =IF(D7>0,L7*100," ") | N7: =IF(D7>0,L7/55," ") | O7: =IF(D7>0,G7/N7," " )
I8: =IF(D8>0,D8*E8," " ) | L8: =IF(D8>0,D8*$B$30*55," " ) | M8: =IF(D8>0,L8*100," ") | N8: =IF(D8>0,L8/55," ") | O8: =IF(D8>0,G8/N8," " )
I9: =IF(D9>0,D9*E9," " ) | L9: =IF(D9>0,D9*$B$30*55," " ) | M9: =IF(D9>0,L9*100," ") | N9: =IF(D9>0,L9/55," ") | O9: =IF(D9>0,G9/N9," " )
I10: =IF(D10>0,D10*E10," " ) | L10: =IF(D10>0,D10*$B$30*55," " ) | M10: =IF(D10>0,L10*100," ") | N10: =IF(D10>0,L10/55," ") | O10: =IF(D10>0,G10/N10," " )
I11: =IF(D11>0,D11*E11," " ) | L11: =IF(D11>0,D11*$B$30*55," " ) | M11: =IF(D11>0,L11*100," ") | N11: =IF(D11>0,L11/55," ") | O11: =IF(D11>0,G11/N11," " )
I12: =IF(D12>0,D12*E12," " ) | L12: =IF(D12>0,D12*$B$30*55," " ) | M12: =IF(D12>0,L12*100," ") | N12: =IF(D12>0,L12/55," ") | O12: =IF(D12>0,G12/N12," " )
I13: =IF(D13>0,D13*E13," " ) | L13: =IF(D13>0,D13*$B$30*55," " ) | M13: =IF(D13>0,L13*100," ") | N13: =IF(D13>0,L13/55," ") | O13: =IF(D13>0,G13/N13," " )
I14: =IF(D14>0,D14*E14," " ) | L14: =IF(D14>0,D14*$B$30*55," " ) | M14: =IF(D14>0,L14*100," ") | N14: =IF(D14>0,L14/55," ") | O14: =IF(D14>0,G14/N14," " )
I15: =IF(D15>0,D15*E15," " ) | L15: =IF(D15>0,D15*$B$30*55," " ) | M15: =IF(D15>0,L15*100," ") | N15: =IF(D15>0,L15/55," ") | O15: =IF(D15>0,G15/N15," " )
I16: =IF(D16>0,D16*E16," " ) | L16: =IF(D16>0,D16*$B$30*55," " ) | M16: =IF(D16>0,L16*100," ") | N16: =IF(D16>0,L16/55," ") | O16: =IF(D16>0,G16/N16," " )
I17: =IF(D17>0,D17*E17," " ) | L17: =IF(D17>0,D17*$B$30*55," " ) | M17: =IF(D17>0,L17*100," ") | N17: =IF(D17>0,L17/55," ") | O17: =IF(D17>0,G17/N17," " )
I18: =IF(D18>0,D18*E18," " ) | L18: =IF(D18>0,D18*$B$30*55," " ) | M18: =IF(D18>0,L18*100," ") | N18: =IF(D18>0,L18/55," ") | O18: =IF(D18>0,G18/N18," " )
... I26: =IF(D26>0,D26*E26," " ) | L26: =IF(D26>0,D26*$B$30*55," " ) | M26: =IF(D26>0,L26*100," ") | N26: =IF(D26>0,L26/55," ") | O26: =IF(D26>0,G26/N26," " )
A27: TOTAL | D27: =SUM(D6:D26) -> 1 | F27: New Product RM Cost ($/lb): | I27: =SUM(I6:I26) -> 1.1506
A29: Specific Gravity:
A30: New Product Density (lb/gal): | B30: 6.55 | D30: Comments
A31: New Product RM Cost ($/gal): | B31: =B30*I27 -> 7.53643 | D31: 1-2 week lead-time
A32: Estimated Time to Make 500 Gallons (hrs): | B32: 4
A33: Time to Pour 500 Gallons into Drums (hrs): | B33: 1
A34: Labor Rate ($/hr) | B34: 30
A35: Overhead Rate ($/gal) | B35: 1.25
A36: Packaged Costs | L36: Do not adjust these values
A37: Container Material | B37: Container Cost ($) | C37: Labor ($/gal) | D37: Overhead ($/gal) | E37: Container + L&O ($/hr) | F37: Pack Size | H37: Total Loaded Cost ($/gal) | I37: Unit Cost ($/ea) | J37: Suggested Sale Price ($/gal) | L37: Volume (gal) | M37: Labor Factor | N37: Pour Factor
C38: =($B$32+$B$33*N38)*$B$34/500 -> 2.94 | D38: =$B$35 -> 1.25 | E38: =IF(B38>0,C38+D38+B38/L38," ") | F38: 8oz (cup) | G38: 16 | H38: =IF(B38>0,$B$31+E38," ") | I38: =IF(B38>0,H38/G38," ") | L38: 0.0625 | M38: =C38/2.5 -> 1.176 | N38: 45
C39: =($B$32+$B$33*N39)*$B$34/500 -> 1.74 | D39: =$B$35 -> 1.25 | E39: =IF(B39>0,C39+D39+B39/L39," ") | F39: 1 Pint | G39: 8 | H39: =IF(B39>0,$B$31+E39," ") | I39: =IF(B39>0,H39/G39," ") | L39: 0.125 | M39: =C39/2.5 -> 0.696 | N39: 25
C40: =($B$32+$B$33*N40)*$B$34/500 -> 1.179759 | D40: =$B$35 -> 1.25 | E40: =IF(B40>0,C40+D40+B40/L40," ") | F40: 1 Qt | G40: 4 | H40: =IF(B40>0,$B$31+E40," ") | I40: =IF(B40>0,H40/G40," ") | L40: 0.25 | M40: =C40/2.5 -> 0.47190361 | N40: 15.662651
A41: PPQ Medical Bottles | B41: 4.7457 | C41: =($B$32+$B$33*N41)*$B$34/500 -> 0.67373494 | D41: =$B$35 -> 1.25 | E41: =IF(B41>0,C41+D41+B41/L41," ") -> 6.6694349 | F41: 1 Gal | G41: 1 | H41: =IF(B41>0,$B$31+E41," ") -> 14.205865 | I41: =IF(B41>0,H41," ") -> 14.205865 | L41: 1 | M41: =C41/2.5 -> 0.26949398 | N41: 7.2289157
A42: Steel Pail | B42: 11.6 | C42: =($B$32+$B$33*N42)*$B$34/500 -> 0.45686747 | D42: =$B$35 -> 1.25 | E42: =IF(B42>0,C42+D42+B42/L42," ") -> 4.0268675 | F42: 5 Gal | G42: 5 | H42: =IF(B42>0,$B$31+E42," ") -> 11.563297 | I42: =IF(B42>0,H42*G42," ") -> 57.816487 | L42: 5 | M42: =C42/2.5 -> 0.18274699 | N42: 3.6144578
B43: ='Nitric 70% ACS'!B43 -> 0 | C43: =($B$32+$B$33*N43)*$B$34/500 -> 0.408 | D43: =$B$35 -> 1.25 | E43: =IF(B43>0,C43+D43+B43/L43," ") | F43: 15 Gal | G43: 15 | H43: =IF(B43>0,$B$31+E43," ") | I43: =IF(B43>0,H43*G43," ") | L43: 15 | M43: =C43/2.5 -> 0.1632 | N43: 2.8
B44: ='Nitric 70% ACS'!B44 -> 0 | C44: =($B$32+$B$33*N44)*$B$34/500 -> 0.38457831 | D44: =$B$35 -> 1.25 | E44: =IF(B44>0,C44+D44+B44/L44," ") | F44: 20 Gal | G44: 20 | H44: =IF(B44>0,$B$31+E44," ") | I44: =IF(B44>0,H44*G44," ") | L44: 20 | M44: =C44/2.5 -> 0.15383133 | N44: 2.4096386
B45: ='Nitric 70% ACS'!B45 -> 0 | C45: =($B$32+$B$33*N45)*$B$34/500 -> 0.34843373 | D45: =$B$35 -> 1.25 | E45: =IF(B45>0,C45+D45+B45/L45," ") | F45: 30 Gal | G45: 30 | H45: =IF(B45>0,$B$31+E45," ") | I45: =IF(B45>0,H45*G45," ") | L45: 30 | M45: =C45/2.5 -> 0.13937349 | N45: 1.8072289
A46: Plastic Drum (Recon) | B46: ='Nitric 70% ACS'!B46 -> 31.384 | C46: =($B$32+$B$33*N46)*$B$34/500 -> 0.3 | D46: =$B$35 -> 1.25 | E46: =IF(B46>0,C46+D46+B46/L46," ") -> 2.1206182 | F46: 55 Gal | G46: 55 | H46: =IF(B46>0,$B$31+E46," ") -> 9.6570482 | I46: =IF(B46>0,H46*G46," ") -> 531.13765 | L46: 55 | M46: =C46/2.5 -> 0.12 | N46: 1
A47: Steel Drum (New) | C47: =($B$32+$B$33*N46)*$B$34/500 -> 0.3 | D47: =$B$35 -> 1.25 | E47: =IF(B47>0,C47+D47+B47/L46," ") | F47: 360 Lbs | G47: 360 | H47: 1.1506 | I47: =H47*G47 -> 414.216 | L47: 275 | M47: =C48/2.5 -> 0.11045783 | N47: 0.60240964
C48: =($B$32+$B$33*N47)*$B$34/500 -> 0.27614458 | D48: =$B$35 -> 1.25 | E48: =IF(B48>0,C48+D48+B48/L47," ") | F48: 275 Gal | G48: 275 | H48: =IF(B48>0,$B$31+E48," ") | I48: =IF(B48>0,H48*G48," ") | L48: 330 | M48: =C50/2.5 -> 0.11045783 | N48: 0.60240964
...

Sheet IPA 70% USP
A1: Proposed New Product Quotation Template
A2: DISCLAIMER: This form is used for Quotation Purposes Only! The Following Product Does Not Yet Exist at RBP
A3: Name of Proposed New Product: | D3: IPA 70% USP | H3: Date | I3: 45873
A4: Product Formula | L4: Batch Information
A5: RM Name | B5: RBP # (if appicable) | C5: RM CAS # (if applicabple) | D5: Weight % | E5: RM Cost ($/lb) | F5: Cost from Chempax? (if 'no', name source) | G5: If New RM to RBP what are Order Minimums? | I5: Extended Cost ($/lb) | K5: Lead Time | L5: RM quantity for 1 drum | M5: x100 | N5: Estimated Lbs/Gal of each RM in formula | O5: Can make ### gallons based on MOQ
A6: IPA 70% USP | D6: 1 | E6: 0.905 | F6: Brenntag | I6: =IF(D6>0,D6*E6," " ) -> 0.905 | K6: 1-2 weeks | L6: =IF(D6>0,D6*$B$30*55," " ) -> 403.15 | M6: =IF(D6>0,L6*100," ") -> 40315 | N6: =IF(D6>0,L6/55," ") -> 7.33 | O6: =IF(D6>0,G6/N6," " ) -> 0
I7: =IF(D7>0,D7*E7," " ) | L7: =IF(D7>0,D7*$B$30*55," " ) | M7: =IF(D7>0,L7*100," ") | N7: =IF(D7>0,L7/55," ") | O7: =IF(D7>0,G7/N7," " )
I8: =IF(D8>0,D8*E8," " ) | L8: =IF(D8>0,D8*$B$30*55," " ) | M8: =IF(D8>0,L8*100," ") | N8: =IF(D8>0,L8/55," ") | O8: =IF(D8>0,G8/N8," " )
I9: =IF(D9>0,D9*E9," " ) | L9: =IF(D9>0,D9*$B$30*55," " ) | M9: =IF(D9>0,L9*100," ") | N9: =IF(D9>0,L9/55," ") | O9: =IF(D9>0,G9/N9," " )
I10: =IF(D10>0,D10*E10," " ) | L10: =IF(D10>0,D10*$B$30*55," " ) | M10: =IF(D10>0,L10*100," ") | N10: =IF(D10>0,L10/55," ") | O10: =IF(D10>0,G10/N10," " )
I11: =IF(D11>0,D11*E11," " ) | L11: =IF(D11>0,D11*$B$30*55," " ) | M11: =IF(D11>0,L11*100," ") | N11: =IF(D11>0,L11/55," ") | O11: =IF(D11>0,G11/N11," " )
I12: =IF(D12>0,D12*E12," " ) | L12: =IF(D12>0,D12*$B$30*55," " ) | M12: =IF(D12>0,L12*100," ") | N12: =IF(D12>0,L12/55," ") | O12: =IF(D12>0,G12/N12," " )
I13: =IF(D13>0,D13*E13," " ) | L13: =IF(D13>0,D13*$B$30*55," " ) | M13: =IF(D13>0,L13*100," ") | N13: =IF(D13>0,L13/55," ") | O13: =IF(D13>0,G13/N13," " )
I14: =IF(D14>0,D14*E14," " ) | L14: =IF(D14>0,D14*$B$30*55," " ) | M14: =IF(D14>0,L14*100," ") | N14: =IF(D14>0,L14/55," ") | O14: =IF(D14>0,G14/N14," " )
I15: =IF(D15>0,D15*E15," " ) | L15: =IF(D15>0,D15*$B$30*55," " ) | M15: =IF(D15>0,L15*100," ") | N15: =IF(D15>0,L15/55," ") | O15: =IF(D15>0,G15/N15," " )
I16: =IF(D16>0,D16*E16," " ) | L16: =IF(D16>0,D16*$B$30*55," " ) | M16: =IF(D16>0,L16*100," ") | N16: =IF(D16>0,L16/55," ") | O16: =IF(D16>0,G16/N16," " )
I17: =IF(D17>0,D17*E17," " ) | L17: =IF(D17>0,D17*$B$30*55," " ) | M17: =IF(D17>0,L17*100," ") | N17: =IF(D17>0,L17/55," ") | O17: =IF(D17>0,G17/N17," " )
I18: =IF(D18>0,D18*E18," " ) | L18: =IF(D18>0,D18*$B$30*55," " ) | M18: =IF(D18>0,L18*100," ") | N18: =IF(D18>0,L18/55," ") | O18: =IF(D18>0,G18/N18," " )
... I26: =IF(D26>0,D26*E26," " ) | L26: =IF(D26>0,D26*$B$30*55," " ) | M26: =IF(D26>0,L26*100," ") | N26: =IF(D26>0,L26/55," ") | O26: =IF(D26>0,G26/N26," " )
A27: TOTAL | D27: =SUM(D6:D26) -> 1 | F27: New Product RM Cost ($/lb): | I27: =SUM(I6:I26) -> 0.905
A29: Specific Gravity:
A30: New Product Density (lb/gal): | B30: 7.33 | D30: Comments
A31: New Product RM Cost ($/gal): | B31: =B30*I27 -> 6.63365 | D31: 1-2 week lead-time
A32: Estimated Time to Make 500 Gallons (hrs): | B32: 4
A33: Time to Pour 500 Gallons into Drums (hrs): | B33: 1
A34: Labor Rate ($/hr) | B34: 30
A35: Overhead Rate ($/gal) | B35: 1.25
A36: Packaged Costs | L36: Do not adjust these values
A37: Container Material | B37: Container Cost ($) | C37: Labor ($/gal) | D37: Overhead ($/gal) | E37: Container + L&O ($/hr) | F37: Pack Size | H37: Total Loaded Cost ($/gal) | I37: Unit Cost ($/ea) | J37: Suggested Sale Price ($/gal) | L37: Volume (gal) | M37: Labor Factor | N37: Pour Factor
C38: =($B$32+$B$33*N38)*$B$34/500 -> 2.94 | D38: =$B$35 -> 1.25 | E38: =IF(B38>0,C38+D38+B38/L38," ") | F38: 8oz (cup) | G38: 16 | H38: =IF(B38>0,$B$31+E38," ") | I38: =IF(B38>0,H38/G38," ") | L38: 0.0625 | M38: =C38/2.5 -> 1.176 | N38: 45
C39: =($B$32+$B$33*N39)*$B$34/500 -> 1.74 | D39: =$B$35 -> 1.25 | E39: =IF(B39>0,C39+D39+B39/L39," ") | F39: 1 Pint | G39: 8 | H39: =IF(B39>0,$B$31+E39," ") | I39: =IF(B39>0,H39/G39," ") | L39: 0.125 | M39: =C39/2.5 -> 0.696 | N39: 25
C40: =($B$32+$B$33*N40)*$B$34/500 -> 1.179759 | D40: =$B$35 -> 1.25 | E40: =IF(B40>0,C40+D40+B40/L40," ") | F40: 1 Qt | G40: 4 | H40: =IF(B40>0,$B$31+E40," ") | I40: =IF(B40>0,H40/G40," ") | L40: 0.25 | M40: =C40/2.5 -> 0.47190361 | N40: 15.662651
A41: PPQ Medical Bottles | B41: 4.7457 | C41: =($B$32+$B$33*N41)*$B$34/500 -> 0.67373494 | D41: =$B$35 -> 1.25 | E41: =IF(B41>0,C41+D41+B41/L41," ") -> 6.6694349 | F41: 1 Gal | G41: 1 | H41: =IF(B41>0,$B$31+E41," ") -> 13.303085 | I41: =IF(B41>0,H41," ") -> 13.303085 | L41: 1 | M41: =C41/2.5 -> 0.26949398 | N41: 7.2289157
A42: Plastic Pail | B42: ='Nitric 70% ACS'!B42 -> 10.722 | C42: =($B$32+$B$33*N42)*$B$34/500 -> 0.45686747 | D42: =$B$35 -> 1.25 | E42: =IF(B42>0,C42+D42+B42/L42," ") -> 3.8512675 | F42: 5 Gal | G42: 5 | H42: =IF(B42>0,$B$31+E42," ") -> 10.484917 | I42: =IF(B42>0,H42*G42," ") -> 52.424587 | L42: 5 | M42: =C42/2.5 -> 0.18274699 | N42: 3.6144578
B43: ='Nitric 70% ACS'!B43 -> 0 | C43: =($B$32+$B$33*N43)*$B$34/500 -> 0.408 | D43: =$B$35 -> 1.25 | E43: =IF(B43>0,C43+D43+B43/L43," ") | F43: 15 Gal | G43: 15 | H43: =IF(B43>0,$B$31+E43," ") | I43: =IF(B43>0,H43*G43," ") | L43: 15 | M43: =C43/2.5 -> 0.1632 | N43: 2.8
B44: ='Nitric 70% ACS'!B44 -> 0 | C44: =($B$32+$B$33*N44)*$B$34/500 -> 0.38457831 | D44: =$B$35 -> 1.25 | E44: =IF(B44>0,C44+D44+B44/L44," ") | F44: 20 Gal | G44: 20 | H44: =IF(B44>0,$B$31+E44," ") | I44: =IF(B44>0,H44*G44," ") | L44: 20 | M44: =C44/2.5 -> 0.15383133 | N44: 2.4096386
B45: ='Nitric 70% ACS'!B45 -> 0 | C45: =($B$32+$B$33*N45)*$B$34/500 -> 0.34843373 | D45: =$B$35 -> 1.25 | E45: =IF(B45>0,C45+D45+B45/L45," ") | F45: 30 Gal | G45: 30 | H45: =IF(B45>0,$B$31+E45," ") | I45: =IF(B45>0,H45*G45," ") | L45: 30 | M45: =C45/2.5 -> 0.13937349 | N45: 1.8072289
A46: Plastic Drum (Recon) | B46: ='Nitric 70% ACS'!B46 -> 31.384 | C46: =($B$32+$B$33*N46)*$B$34/500 -> 0.3 | D46: =$B$35 -> 1.25 | E46: =IF(B46>0,C46+D46+B46/L46," ") -> 2.1206182 | F46: 55 Gal | G46: 55 | H46: =IF(B46>0,$B$31+E46," ") -> 8.7542682 | I46: =IF(B46>0,H46*G46," ") -> 481.48475 | L46: 55 | M46: =C46/2.5 -> 0.12 | N46: 1
A47: Plastic Drum (New) | C47: =($B$32+$B$33*N46)*$B$34/500 -> 0.3 | D47: =$B$35 -> 1.25 | E47: =IF(B47>0,C47+D47+B47/L46," ") | F47: 402.7 Lbs | G47: 402.7 | H47: 0.905 | I47: =H47*G47 -> 364.4435 | L47: 275 | M47: =C48/2.5 -> 0.11045783 | N47: 0.60240964
C48: =($B$32+$B$33*N47)*$B$34/500 -> 0.27614458 | D48: =$B$35 -> 1.25 | E48: =IF(B48>0,C48+D48+B48/L47," ") | F48: 275 Gal | G48: 275 | H48: =IF(B48>0,$B$31+E48," ") | I48: =IF(B48>0,H48*G48," ") | L48: 330 | M48: =C50/2.5 -> 0.11045783 | N48: 0.60240964
...

Sheet Sheet2
A1: 1 Pint | B1: 4
A2: 1 Qt | B2: 3
A3: 1 Gal | B3: 2
A4: 5 Gal | B4: 1.5
A5: 15 Gal | B5: 1.2
A6: 20 Gal | B6: 1.15
A7: 30 Gal | B7: 1.1
A8: 55 Gal | B8: 1
A9: 275 Gal | B9: 0.7
A10: 330 Gal | B10: 0.7

Sheet MAster Sheet (EL)
A1: Product | B1: % Conentration | C1: Specification
A2: Isopropyl Alcohol (IPA) | B2: 0.99 | C2: Tech
A3: Isopropyl Alcohol (IPA) | B3: 0.99 | C3: ACS
A4: Isopropyl Alcohol (IPA) | B4: 0.99 | C4: USP
A5: Isopropyl Alcohol (IPA) | B5: 0.99 | C5: Reagent
A6: Methanol | B6: 0.99 | C6: Tech
A7: Methanol | B7: 0.99 | C7: ACS
A8: Methanol | B8: 0.99 | C8: USP
A9: Methanol | B9: 0.99 | C9: Reagent
A10: Nitric Acid | B10: 0.7 | C10: ACS
A11: Nitric Acid | B11: 0.7 | C11: Reagent
A12: Nitric Acid | B12: 0.2 | C12: ACS
A13: Nitric Acid | B13: 0.7 | C13: ACS

Sheet MAster Sheet (EL) (2)
B1: Grade | G1: Packaging Size
A2: Product | B2: Concentration (%) | C2: Reagent | D2: ACS | E2: Technical | F2: USP | G2: 1 gallon (4L) Bottle | H2: 5 gal (20L) Carboy | I2: 55 gallon (200L) Drum
A3: Isopropyl Alcohol (IPA) | B3: 99; 70; or custom blend | C3: x | D3: x | E3: x | G3: x | H3: x | I3: x
A4: Methanol | B4: 99; or custom blend | C4: x | D4: x | E4: x | G4: x | H4: x | I4: x
A5: Hydrogen Peroxide | B5: 35; or custom blend | C5: x | D5: x | E5: x | G5: x | H5: x | I5: x
A6: Nitric Acid | B6: 70; or custom blend | C6: x | D6: x | E6: x | G6: x | H6: x | I6: x
A7: Hydrofluoric Acid | B7: 49; or custom blend | C7: x | D7: x | E7: x | G7: x | H7: x | I7: x
A8: Sulfuric Acid | B8: 93; or custom blend | C8: x | D8: x | E8: x | G8: x | H8: x | I8: x
A9: Citric Acid | B9: Any custom blend | E9: x
A10: Other chemistr(ies) | B10: Please contact us and we will assist
